BEGIN:VCALENDAR
VERSION:2.0
PRODID:-//Bucket List Community News - ECPv6.15.20//NONSGML v1.0//EN
CALSCALE:GREGORIAN
METHOD:PUBLISH
X-WR-CALNAME:Bucket List Community News
X-ORIGINAL-URL:https://bucketlistcommunitynews.com
X-WR-CALDESC:Events for Bucket List Community News
REFRESH-INTERVAL;VALUE=DURATION:PT1H
X-Robots-Tag:noindex
X-PUBLISHED-TTL:PT1H
BEGIN:VTIMEZONE
TZID:America/Denver
BEGIN:DAYLIGHT
TZOFFSETFROM:-0700
TZOFFSETTO:-0600
TZNAME:MDT
DTSTART:20220313T090000
END:DAYLIGHT
BEGIN:STANDARD
TZOFFSETFROM:-0600
TZOFFSETTO:-0700
TZNAME:MST
DTSTART:20221106T080000
END:STANDARD
BEGIN:DAYLIGHT
TZOFFSETFROM:-0700
TZOFFSETTO:-0600
TZNAME:MDT
DTSTART:20230312T090000
END:DAYLIGHT
BEGIN:STANDARD
TZOFFSETFROM:-0600
TZOFFSETTO:-0700
TZNAME:MST
DTSTART:20231105T080000
END:STANDARD
BEGIN:DAYLIGHT
TZOFFSETFROM:-0700
TZOFFSETTO:-0600
TZNAME:MDT
DTSTART:20240310T090000
END:DAYLIGHT
BEGIN:STANDARD
TZOFFSETFROM:-0600
TZOFFSETTO:-0700
TZNAME:MST
DTSTART:20241103T080000
END:STANDARD
BEGIN:DAYLIGHT
TZOFFSETFROM:-0700
TZOFFSETTO:-0600
TZNAME:MDT
DTSTART:20250309T090000
END:DAYLIGHT
BEGIN:STANDARD
TZOFFSETFROM:-0600
TZOFFSETTO:-0700
TZNAME:MST
DTSTART:20251102T080000
END:STANDARD
BEGIN:DAYLIGHT
TZOFFSETFROM:-0700
TZOFFSETTO:-0600
TZNAME:MDT
DTSTART:20260308T090000
END:DAYLIGHT
BEGIN:STANDARD
TZOFFSETFROM:-0600
TZOFFSETTO:-0700
TZNAME:MST
DTSTART:20261101T080000
END:STANDARD
END:VTIMEZONE
BEGIN:VEVENT
DTSTART;TZID=America/Denver:20250629T100000
DTEND;TZID=America/Denver:20250629T170000
DTSTAMP:20260423T095953
CREATED:20250428T185841Z
LAST-MODIFIED:20250428T185841Z
UID:10000786-1751191200-1751216400@bucketlistcommunitynews.com
SUMMARY:Clyfford Still Museum
DESCRIPTION:Denver PrideFest Weekend \n\n\n	Related
URL:https://bucketlistcommunitynews.com/event/clyfford-still-museum-3/
LOCATION:Clyfford Still Museum\, 1250 Bannock St.\, Denver\, CO\, 80204\, United States
ATTACH;FMTTYPE=image/png:https://bucketlistcommunitynews.com/wp-content/uploads/2025/04/Screenshot-2025-04-28-at-12.57.51 PM.png
END:VEVENT
BEGIN:VEVENT
DTSTART;TZID=America/Denver:20250427T103000
DTEND;TZID=America/Denver:20250427T123000
DTSTAMP:20260423T095953
CREATED:20250401T020610Z
LAST-MODIFIED:20250421T222804Z
UID:10000635-1745749800-1745757000@bucketlistcommunitynews.com
SUMMARY:Clyfford Still Museum
DESCRIPTION:Join the Clyfford Still Museum for a city-wide celebration of children worldwide during Día del Niño (Day of the Child) from 10:30 a.m. to 12:30 p.m. on Sunday\, April 27\, 2025. Stop by the Museum’s outdoor forecourt to participate in an art-making session with artist Kristina Maldonado Bad Hand. Participants will create seed bombs. The Kinážiŋ project is a land-back activation of returning Indigenous plants to urban areas of Colorado through a clay sculpture containing seeds that is quite literally meant to return to the land. Kinážiŋ(Key-Na-Zi) means to return to where you were moved from in Lakota. \nEnjoy child-friendly dance performances by local groups on the forecourt \n\n\n	Related
URL:https://bucketlistcommunitynews.com/event/clyfford-still-museum-2/
LOCATION:Clyfford Still Museum\, 1250 Bannock St.\, Denver\, CO\, 80204\, United States
ATTACH;FMTTYPE=image/jpeg:https://bucketlistcommunitynews.com/wp-content/uploads/2025/03/FF-APRIL25-Large-1024x1024-1.jpeg
END:VEVENT
BEGIN:VEVENT
DTSTART;TZID=America/Denver:20250427T100000
DTEND;TZID=America/Denver:20250427T170000
DTSTAMP:20260423T095953
CREATED:20250401T020138Z
LAST-MODIFIED:20250401T020138Z
UID:10000632-1745748000-1745773200@bucketlistcommunitynews.com
SUMMARY:Clyfford Still Museum
DESCRIPTION:Art in Action: Mini Tour\nDive into the world of Clyfford Still like never before with our monthly Mini-Tours! Have you ever wondered what a painting might sound or smell like? Are you curious about the stories hidden within the paint strokes or the meaning behind a splash of red? Join us for a lively tour where we’ll explore intriguing questions like these and much more. Engage your curiosity and imagination with rotating themes each month. \nEnjoy the 30-minute Mini-Tours at 11 a.m. and 2 p.m. on every CSM Pay-What-You-Wish Day and SCFD Free Day. The Mini-Tours are free\, no registration is required\, and all ages are welcome. Meet in the Museum lobby and get ready for some interactive fun. We’ll see you there! \n\n\n	Related
URL:https://bucketlistcommunitynews.com/event/clyfford-still-museum/
LOCATION:Clyfford Still Museum\, 1250 Bannock St.\, Denver\, CO\, 80204\, United States
END:VEVENT
BEGIN:VEVENT
DTSTART;TZID=America/Denver:20230217T080000
DTEND;TZID=America/Denver:20230910T170000
DTSTAMP:20260423T095953
CREATED:20230321T180353Z
LAST-MODIFIED:20230321T180353Z
UID:10000462-1676620800-1694365200@bucketlistcommunitynews.com
SUMMARY:Awful Bigness
DESCRIPTION:The Clyfford Still Museum is situated in Denver\, Colorado\, at the foot of the Rockies at an elevation that makes those unused to this altitude gasp. When we ascend to the top of a ridge and look out at the vast expanse\, we might enjoy a sense of achievement at scaling that terrain or revel at the expanse that spreads before us\, but we may also experience the smallness of our own individual existence. This experience might be tinged with a fear of tumbling\, being engulfed\, or disappearing in the face of such grandeur. Generations of Western artists and intellectuals\, especially beginning in the late 18th and early 19th centuries\, have described this feeling as the experience of the sublime. \nClyfford Still spent his childhood and adolescence in the West and saw how the boundless plains could offer generous bounty in times of plenty or pitilessly starve in dust and wind. In an interview\, he referred to that experience as one that taught him to respect the “awful bigness of the land\, the men and the machines.” In subsequent years\, he worked on an enormous scale\, and each time\, he had to confront the awful bigness of the vast expanse of blank canvas. \nOrganized by the Museum’s associate curator\, Bailey Placzek\, in collaboration with CSM’s director\, Joyce Tsai\, Awful Bigness fills the Museum’s largest\, skylit galleries and celebrates Still’s biggest\, most ambitious works. This installation follows a chronological display of Still’s works in CSM’s first four rooms\, which overviews Still’s groundbreaking path to abstraction. \n\n\n	Related
URL:https://bucketlistcommunitynews.com/event/awful-bigness/
LOCATION:Clyfford Still Museum\, 1250 Bannock St.\, Denver\, CO\, 80204\, United States
END:VEVENT
BEGIN:VEVENT
DTSTART;TZID=America/Denver:20230212T110000
DTEND;TZID=America/Denver:20230212T150000
DTSTAMP:20260423T095953
CREATED:20230116T202208Z
LAST-MODIFIED:20230116T202208Z
UID:10000548-1676199600-1676214000@bucketlistcommunitynews.com
SUMMARY:Music in the Galleries
DESCRIPTION:Enjoy live music as you wander the Clyfford Still Museum galleries with performances at 11 a.m. and 1 p.m. The performances are included with Museum admission\, the program is included with Museum admission and is free for CSM members. Seating is limited and first come\, first served. The music may be enjoyed from any gallery. \n\n\n	Related
URL:https://bucketlistcommunitynews.com/event/music-in-the-galleries/
LOCATION:Clyfford Still Museum\, 1250 Bannock St.\, Denver\, CO\, 80204\, United States
END:VEVENT
END:VCALENDAR