BEGIN:VCALENDAR
VERSION:2.0
PRODID:-//Bucket List Community News - ECPv6.15.20//NONSGML v1.0//EN
CALSCALE:GREGORIAN
METHOD:PUBLISH
X-WR-CALNAME:Bucket List Community News
X-ORIGINAL-URL:https://bucketlistcommunitynews.com
X-WR-CALDESC:Events for Bucket List Community News
REFRESH-INTERVAL;VALUE=DURATION:PT1H
X-Robots-Tag:noindex
X-PUBLISHED-TTL:PT1H
BEGIN:VTIMEZONE
TZID:America/Denver
BEGIN:DAYLIGHT
TZOFFSETFROM:-0700
TZOFFSETTO:-0600
TZNAME:MDT
DTSTART:20240310T090000
END:DAYLIGHT
BEGIN:STANDARD
TZOFFSETFROM:-0600
TZOFFSETTO:-0700
TZNAME:MST
DTSTART:20241103T080000
END:STANDARD
BEGIN:DAYLIGHT
TZOFFSETFROM:-0700
TZOFFSETTO:-0600
TZNAME:MDT
DTSTART:20250309T090000
END:DAYLIGHT
BEGIN:STANDARD
TZOFFSETFROM:-0600
TZOFFSETTO:-0700
TZNAME:MST
DTSTART:20251102T080000
END:STANDARD
BEGIN:DAYLIGHT
TZOFFSETFROM:-0700
TZOFFSETTO:-0600
TZNAME:MDT
DTSTART:20260308T090000
END:DAYLIGHT
BEGIN:STANDARD
TZOFFSETFROM:-0600
TZOFFSETTO:-0700
TZNAME:MST
DTSTART:20261101T080000
END:STANDARD
END:VTIMEZONE
BEGIN:VEVENT
DTSTART;TZID=America/Denver:20250726T100000
DTEND;TZID=America/Denver:20250726T140000
DTSTAMP:20260424T075826
CREATED:20250721T213708Z
LAST-MODIFIED:20250722T182308Z
UID:10000853-1753524000-1753538400@bucketlistcommunitynews.com
SUMMARY:Longer Tables' Mile Long Table
DESCRIPTION:Share a meal with 5\,280 neighbors at Longer Tables’ Mile Long Table on the Auraria Campus. This one-of-a-kind event invites people from all walks of life to connect through meaningful conversation while celebrating Denver’s culture\, diversity\, and spirit of inclusivity. It is all about turning strangers into community\, one seat at a time. \n\n\n	Related
URL:https://bucketlistcommunitynews.com/event/longer-tables-mile-long-table/
LOCATION:Auraria Campus\, 1201 5th St\, Denver\, CO\, 80204\, United States
ATTACH;FMTTYPE=image/jpeg:https://bucketlistcommunitynews.com/wp-content/uploads/2025/07/504177630_122203674872096409_1974975382537653592_n.jpg
END:VEVENT
END:VCALENDAR