BEGIN:VCALENDAR
VERSION:2.0
PRODID:-//Bucket List Community News - ECPv6.15.20//NONSGML v1.0//EN
CALSCALE:GREGORIAN
METHOD:PUBLISH
X-WR-CALNAME:Bucket List Community News
X-ORIGINAL-URL:https://bucketlistcommunitynews.com
X-WR-CALDESC:Events for Bucket List Community News
REFRESH-INTERVAL;VALUE=DURATION:PT1H
X-Robots-Tag:noindex
X-PUBLISHED-TTL:PT1H
BEGIN:VTIMEZONE
TZID:America/Denver
BEGIN:DAYLIGHT
TZOFFSETFROM:-0700
TZOFFSETTO:-0600
TZNAME:MDT
DTSTART:20240310T090000
END:DAYLIGHT
BEGIN:STANDARD
TZOFFSETFROM:-0600
TZOFFSETTO:-0700
TZNAME:MST
DTSTART:20241103T080000
END:STANDARD
BEGIN:DAYLIGHT
TZOFFSETFROM:-0700
TZOFFSETTO:-0600
TZNAME:MDT
DTSTART:20250309T090000
END:DAYLIGHT
BEGIN:STANDARD
TZOFFSETFROM:-0600
TZOFFSETTO:-0700
TZNAME:MST
DTSTART:20251102T080000
END:STANDARD
BEGIN:DAYLIGHT
TZOFFSETFROM:-0700
TZOFFSETTO:-0600
TZNAME:MDT
DTSTART:20260308T090000
END:DAYLIGHT
BEGIN:STANDARD
TZOFFSETFROM:-0600
TZOFFSETTO:-0700
TZNAME:MST
DTSTART:20261101T080000
END:STANDARD
BEGIN:DAYLIGHT
TZOFFSETFROM:-0700
TZOFFSETTO:-0600
TZNAME:MDT
DTSTART:20270314T090000
END:DAYLIGHT
BEGIN:STANDARD
TZOFFSETFROM:-0600
TZOFFSETTO:-0700
TZNAME:MST
DTSTART:20271107T080000
END:STANDARD
BEGIN:DAYLIGHT
TZOFFSETFROM:-0700
TZOFFSETTO:-0600
TZNAME:MDT
DTSTART:20280312T090000
END:DAYLIGHT
BEGIN:STANDARD
TZOFFSETFROM:-0600
TZOFFSETTO:-0700
TZNAME:MST
DTSTART:20281105T080000
END:STANDARD
END:VTIMEZONE
BEGIN:VEVENT
DTSTART;TZID=America/Denver:20250401T080000
DTEND;TZID=America/Denver:20270301T170000
DTSTAMP:20260424T035002
CREATED:20250401T022113Z
LAST-MODIFIED:20250428T162632Z
UID:10000637-1743494400-1803920400@bucketlistcommunitynews.com
SUMMARY:Catalysts
DESCRIPTION:‘The Denver Theatre District (DTD) presents Catalysts\, a community artwork by renowned British-American artist Jann Haworth. Catalysts features a collage of 34 stenciled portraits of behind-the-scenes individuals who are integral to the success and vibrancy of Denver arts and culture\, as selected by participating arts organizations. Each participating arts organization selected an honoree to be recognized and submitted an essay highlighting their remarkable contributions.\n‍\nIn June of 2024 Haworth led a collaborative workshop with honorees\, local artists and community members who created the stencils for the artwork. Haworth then arranged and completed the work which was photographed and adapted to fit the triptych art billboard located on the side of the Buell Theatre in Denver\, Colorado. The Denver Theatre District is proud to host the work of Jann Haworth and invites you to celebrate the incredible contributions of these exceptional individuals. \n‍Catalysts is located on the side of the Buell Theatre on Champa Street between 13th Street and 14th Street and will run until 2027. \n\n				Share on Facebook (Opens in new window)\n				Facebook\n			\n				Share on Threads (Opens in new window)\n				Threads\n			\n				Share on X (Opens in new window)\n				X
URL:https://bucketlistcommunitynews.com/event/catalysts/
LOCATION:Catalysts\, Buell Theatre in the Denver Performing Arts Complex Champa & 13th St.\, Denver\, CO\, 80202\, United States
ATTACH;FMTTYPE=image/png:https://bucketlistcommunitynews.com/wp-content/uploads/2025/03/Screenshot-2025-04-28-at-10.25.32 AM.png
END:VEVENT
BEGIN:VEVENT
DTSTART;VALUE=DATE:20260417
DTEND;VALUE=DATE:20260601
DTSTAMP:20260424T035002
CREATED:20260220T232535Z
LAST-MODIFIED:20260220T232535Z
UID:10001124-1776384000-1780271999@bucketlistcommunitynews.com
SUMMARY:Niza Knoll Gallery: "Have a Seat- The Painted Chair"
DESCRIPTION:Interested in unique local art? See this exhibition showing the beautiful and creative ways everyday chairs have been transformed into art that is functional. \n\n				Share on Facebook (Opens in new window)\n				Facebook\n			\n				Share on Threads (Opens in new window)\n				Threads\n			\n				Share on X (Opens in new window)\n				X
URL:https://bucketlistcommunitynews.com/event/niza-knoll-gallery-have-a-seat-the-painted-chair/
LOCATION:Niza Knoll Gallery\, 915 Santa Fe Drive\, Denver\, CO\, 80204\, United States
ATTACH;FMTTYPE=image/png:https://bucketlistcommunitynews.com/wp-content/uploads/2026/02/Screenshot-2026-02-20-162114-1.png
END:VEVENT
BEGIN:VEVENT
DTSTART;TZID=America/Denver:20260418T080000
DTEND;TZID=America/Denver:20260418T150000
DTSTAMP:20260424T035002
CREATED:20260212T205900Z
LAST-MODIFIED:20260212T205900Z
UID:10001117-1776499200-1776524400@bucketlistcommunitynews.com
SUMMARY:Lakewood's Annual Tree Sale
DESCRIPTION:Are you interested in eco-friendly events? The 4th Annual Lakewood Tree Sale will be taking place\, where residents can support the tree canopy and sustainability initiatives of the city. Discounted trees will be offered at $25 per tree\, up to 1-inch caliper\, with a limit of three trees of different species per household. The species will be various trees that grow in Colorado’s current climate. The sale opens on March 2nd at 10 a.m. and will continue until supplies run out. The pick-up will be on April 18th between 8 a.m. and 3 p.m. \n\n				Share on Facebook (Opens in new window)\n				Facebook\n			\n				Share on Threads (Opens in new window)\n				Threads\n			\n				Share on X (Opens in new window)\n				X
URL:https://bucketlistcommunitynews.com/event/lakewoods-annual-tree-sale/
LOCATION:City Greenhouse\, 9556 W. Yale Ave.\, Denver\, CO\, 80227\, United States
ATTACH;FMTTYPE=image/jpeg:https://bucketlistcommunitynews.com/wp-content/uploads/2026/02/image002.jpg
END:VEVENT
END:VCALENDAR